BEGIN:VCALENDAR
VERSION:2.0
PRODID:-//IP.Board Calendar 4.4.9.2//EN
METHOD:PUBLISH
CALSCALE:GREGORIAN
X-WR-CALNAME:Мачове
BEGIN:VTIMEZONE
TZID:Europe/London
TZURL:http://tzurl.org/zoneinfo/Europe/London
X-LIC-LOCATION:Europe/London
BEGIN:DAYLIGHT
TZOFFSETFROM:+0000
TZOFFSETTO:+0100
TZNAME:BST
DTSTART:20060326T020000Z
RRULE:FREQ=YEARLY;BYMONTH=3;BYDAY=-1SU
END:DAYLIGHT
BEGIN:STANDARD
TZOFFSETFROM:+0100
TZOFFSETTO:+0000
TZNAME:GMT
DTSTART:20061029T020000Z
RRULE:FREQ=YEARLY;BYMONTH=10;BYDAY=-1SU
END:STANDARD
END:VTIMEZONE
BEGIN:VEVENT
SUMMARY:Wolves 0:3 Man. Utd. FA Cup 29.01
DTSTAMP:20060128T220001Z
SEQUENCE:1
UID:3-1-513eccba4ca629c5519580950d2ab907@manutd-bulgaria.com
ORGANIZER;CN="Nasic":noreply@manutd-bulgaria.com
DESCRIPTION:Мач за купата на Футболната Ас
	оциация.
DTSTART:20060128T020000Z
END:VEVENT
END:VCALENDAR
