BEGIN:VCALENDAR
VERSION:2.0
PRODID:-//IP.Board Calendar 4.4.9.2//EN
METHOD:PUBLISH
CALSCALE:GREGORIAN
X-WR-CALNAME:Мачове
BEGIN:VTIMEZONE
TZID:Europe/London
TZURL:http://tzurl.org/zoneinfo/Europe/London
X-LIC-LOCATION:Europe/London
BEGIN:DAYLIGHT
TZOFFSETFROM:+0000
TZOFFSETTO:+0100
TZNAME:BST
DTSTART:20090329T020000Z
RRULE:FREQ=YEARLY;BYMONTH=3;BYDAY=-1SU
END:DAYLIGHT
BEGIN:STANDARD
TZOFFSETFROM:+0100
TZOFFSETTO:+0000
TZNAME:GMT
DTSTART:20091025T020000Z
RRULE:FREQ=YEARLY;BYMONTH=10;BYDAY=-1SU
END:STANDARD
END:VTIMEZONE
BEGIN:VEVENT
SUMMARY:Манчестър Юнайтед  - Блекбърн
DTSTAMP:20090221T212412Z
SEQUENCE:1
UID:208-1-513eccba4ca629c5519580950d2ab907@manutd-bulgaria.com
ORGANIZER;CN="Authentic":noreply@manutd-bulgaria.com
DESCRIPTION: vs \n\nПремиършип\n21 Февруари 2009г\n2:
	1\n
DTSTART:20090221T232956Z
END:VEVENT
END:VCALENDAR
