BEGIN:VCALENDAR
VERSION:2.0
PRODID:-//IP.Board Calendar 4.4.9.2//EN
METHOD:PUBLISH
CALSCALE:GREGORIAN
X-WR-CALNAME:Мачове
BEGIN:VTIMEZONE
TZID:Europe/London
TZURL:http://tzurl.org/zoneinfo/Europe/London
X-LIC-LOCATION:Europe/London
BEGIN:DAYLIGHT
TZOFFSETFROM:+0000
TZOFFSETTO:+0100
TZNAME:BST
DTSTART:20080330T020000Z
RRULE:FREQ=YEARLY;BYMONTH=3;BYDAY=-1SU
END:DAYLIGHT
BEGIN:STANDARD
TZOFFSETFROM:+0100
TZOFFSETTO:+0000
TZNAME:GMT
DTSTART:20081026T020000Z
RRULE:FREQ=YEARLY;BYMONTH=10;BYDAY=-1SU
END:STANDARD
END:VTIMEZONE
BEGIN:VEVENT
SUMMARY:Олборг - Манчестър Юнайтед
DTSTAMP:20081002T153720Z
SEQUENCE:1
UID:176-1-513eccba4ca629c5519580950d2ab907@manutd-bulgaria.com
ORGANIZER;CN="RedDevil":noreply@manutd-bulgaria.com
DESCRIPTION: vs \n\nШампионска Лига\n30 Септемвр
	и 2008г\n0:3\n
DTSTART:20081001T024456Z
END:VEVENT
END:VCALENDAR
